BEGIN:VCALENDAR
VERSION:2.0
PRODID:-//DDMA - ECPv6.15.20//NONSGML v1.0//EN
CALSCALE:GREGORIAN
METHOD:PUBLISH
X-ORIGINAL-URL:https://ddma.nl
X-WR-CALDESC:Evenementen voor DDMA
REFRESH-INTERVAL;VALUE=DURATION:PT1H
X-Robots-Tag:noindex
X-PUBLISHED-TTL:PT1H
BEGIN:VTIMEZONE
TZID:Europe/Amsterdam
BEGIN:DAYLIGHT
TZOFFSETFROM:+0100
TZOFFSETTO:+0200
TZNAME:CEST
DTSTART:20250330T010000
END:DAYLIGHT
BEGIN:STANDARD
TZOFFSETFROM:+0200
TZOFFSETTO:+0100
TZNAME:CET
DTSTART:20251026T010000
END:STANDARD
BEGIN:DAYLIGHT
TZOFFSETFROM:+0100
TZOFFSETTO:+0200
TZNAME:CEST
DTSTART:20260329T010000
END:DAYLIGHT
BEGIN:STANDARD
TZOFFSETFROM:+0200
TZOFFSETTO:+0100
TZNAME:CET
DTSTART:20261025T010000
END:STANDARD
BEGIN:DAYLIGHT
TZOFFSETFROM:+0100
TZOFFSETTO:+0200
TZNAME:CEST
DTSTART:20270328T010000
END:DAYLIGHT
BEGIN:STANDARD
TZOFFSETFROM:+0200
TZOFFSETTO:+0100
TZNAME:CET
DTSTART:20271031T010000
END:STANDARD
END:VTIMEZONE
BEGIN:VEVENT
DTSTART;TZID=Europe/Amsterdam:20260423T150000
DTEND;TZID=Europe/Amsterdam:20260423T170000
DTSTAMP:20260422T105858
CREATED:20260309T161714Z
LAST-MODIFIED:20260413T090231Z
UID:74664-1776956400-1776963600@ddma.nl
SUMMARY:Young Talent Meetup: E-mail & Marketing Automation
DESCRIPTION:Wat kun je verwachten?\n\n\n\nWe starten om 15:00 uur met een verdiepend programma van ongeveer 1 tot 1\,5 uur. Tijdens dit inhoudelijke gedeelte delen twee sprekers hun kennis\, ervaringen en praktische inzichten op het gebied van e-mailmarketing en marketing automation. \n\n\n\nOp het podium staan: \n\n\n\n\nKim de Klerk\n\n\n\nVivian Peeman (Merkle)\n\n\n\n\nNa de presentaties sluiten we de middag af met een informele borrel. Een mooie gelegenheid om door te praten met de sprekers\, vragen te stellen en andere Young Talents uit het vakgebied te leren kennen. \n\n\n\nVoor wie is dit event relevant? \n\n\n\nDit event is speciaal georganiseerd voor Young Talent: (junior) e-mailmarketeers\, CRM-specialisten\, automation-strategen en iedereen die aan het begin van zijn/haar carrière staat in dit vakgebied (maximaal 5 jaar ervaring).   \n\n\n\nSprekers\n\n\n\n \n\n\n\n\n	        \n                            \n                    \n    \n                    \n                \n            \n                Vivian Peeman\n            \n                            \n                    CXM Campagne Manager | Merkle\n                \n                                    \n                                                    \n    \n    \n                                                                            \n\n        \n    \n    \n                \n                    \n	\n\n\n\nDe psychologie achter e-mail die blijft hangen\n\n\n\nVivian Peeman is CXM Manager bij Merkle en gespecialiseerd in CRM en e-mailmarketing. Ze adviseert organisaties zoals Albert Heijn en Marktplaats over CRM-strategieën\, lifecyclecampagnes en geautomatiseerde e-mailflows. Door haar ervaring aan zowel merk- als bureauzijde combineert ze strategisch inzicht met praktische kennis van datagedreven klantcommunicatie. \n\n\n\nTijdens haar sessie laat Vivian zien hoe e-mail kan bijdragen aan het opbouwen van gedragsmatige en emotionele loyaliteit. Aan de hand van praktijkervaring uit CRM-programma’s en inzichten uit gedragspsychologie laat ze zien hoe merken e-mails kunnen ontwikkelen die niet alleen geopend worden\, maar ook daadwerkelijk impact maken op de klantrelatie. Daarbij gaat ze onder andere in op frameworks zoals de DOSE-methodiek\, waarmee communicatie relevanter\, persoonlijker en effectiever wordt. \n\n\n\n	        \n                            \n                    \n    \n                    \n                \n            \n                Kim de Klerk\n            \n                            \n                    Zelfstandig CRM & E-mailspecialist | Eigenaar Krachtig In Marketing\n                \n                                    \n                                                    \n    \n    \n                                                                            \n\n        \n    \n    \n                \n                    \n	\n\n\n\nZo bouw je e-mails die wél iets opleveren\n\n\n\nKim is al meer dan 17 jaar actief in de wereld van e-mailmarketing. Zij weet als geen ander hoe je e-mailcampagnes en e-mails bouwt die niet alleen gelezen worden\, maar ook omzet opleveren. De meeste e-mails falen niet door slechte copy\, maar omdat er geen rekening wordt gehouden met hoe e-mails door de ontvanger worden gelezen en verwerkt door het brein. Tijdens haar sessie neemt ze je mee in deze nieuwe manier van e-mails kritisch bekijken én optimaliseren.  \n\n\n\n\n\n\nPraktische informatie\n\n\n\n\n\n\n\nKostenGratis voor leden\,€100\,- voor niet leden \n\n\n\nLet op: er zijn maximaal 40 plaatsen beschikbaar. Wees er dus snel bij. \n\n\n\nDeel dit evenement
URL:https://ddma.nl/event/young-talent-meetup-e-mail-marketing-automation/
LOCATION:DDMA-kantoor\, Wg-Plein 185\, 1054 SC\, Amsterdam
ATTACH;FMTTYPE=image/jpeg:https://ddma.nl/wp-content/uploads/2026/03/pexels-mart-production-7550397-scaled.jpg
END:VEVENT
BEGIN:VEVENT
DTSTART;TZID=Europe/Amsterdam:20260430T150000
DTEND;TZID=Europe/Amsterdam:20260430T170000
DTSTAMP:20260422T105858
CREATED:20260311T193225Z
LAST-MODIFIED:20260311T193901Z
UID:74826-1777561200-1777568400@ddma.nl
SUMMARY:DDMA Elite: Van briefing tot campagne: waar gaat het mis tussen adverteerder\, media en creatie? 
DESCRIPTION:Tijdens deze DDMA Elite-sessie gaan we met max. 12-14 adverteerders in gesprek over de samenwerking tussen deze partijen. Door ervaringen te delen\, pijnpunten te bespreken en best practices te analyseren\, zoeken we gezamenlijk naar manieren om het proces te verbeteren en tot beter werk te komen.  \n\n\n\nWaarom deze sessie?\n\n\n\nIn veel campagnes worden belangrijke stappen in het proces overgeslagen. Briefings zijn onvolledig\, verwachtingen lopen uiteen en de samenwerking tussen strategie\, media en creatie is niet altijd optimaal ingericht.  \n\n\n\nVanuit bureauzijde klinkt bijvoorbeeld regelmatig: “Als we meer mogelijkheden hadden gekregen\, hadden we meer kunnen doen.” Tegelijkertijd ervaren adverteerders soms dat de output niet aansluit bij hun verwachtingen.  \n\n\n\nDeze Elite-sessie brengt de verschillende perspectieven bij elkaar om te onderzoeken:  \n\n\n\n\nWat zijn de grootste valkuilen in de samenwerking en hoe omzeil je die?\n\n\n\n\n\nWat zijn de onmisbare stappen in het proces die vaak gemist worden?\n\n\n\n\n\nHoe kunnen adverteerders\, mediabureaus en creatieve bureaus beter samenwerken? \n\n\n\n\nWelke processen en werkwijzen leiden aantoonbaar tot betere campagnes?  \n\n\n\nWat kun je verwachten? Tijdens de sessie werken we aan een gezamenlijke analyse van het proces tussen adverteerder\, mediabureau en creatief bureau.  \n\n\n\nOnder andere aan bod:  \n\n\n\n\nconcrete pijnpunten in samenwerking en briefing \n\n\n\n\n\nverschillende perspectieven op het campagneproces \n\n\n\n\n\nvoorbeelden van cases waar samenwerking wél goed werkt \n\n\n\n\n\npraktische manieren om processen beter in te richten \n\n\n\n\nWe bespreken ook een inspirerende case van een campagne die aantoonbaar succesvol was om te analyseren wat daar goed ging in de samenwerking.  \n\n\n\nWat is een Elite?   Een Elite is een kleinschalige\, interactieve sessie waarin leiders kennis\, inspiratie en praktijkvoorbeelden met elkaar uitwisselen. Door te sparren en inzichten te delen\, leren deelnemers van én met elkaar. Deze invite-only Elite is een initiatief van de DDMA Commissie Social Media en de Commissie Creative en is uitsluitend toegankelijk voor marketeers werkzaam bij adverteerders. De sessie is exclusief en biedt ruimte aan maximaal 14 deelnemers\, zodat er voldoende ruimte is voor echte uitwisseling en verdieping. Heb je interesse om deel te nemen? Mail dan naar esmeraldameijer@ddma.nl of loraineheijstek@ddma.nl. \n\n\n\n\n\nPraktische informatie\n\n\n\n\n\n\n\nInvite-only \n\n\n\nDeel dit evenement
URL:https://ddma.nl/event/ddma-elite-van-briefing-tot-campagne-waar-gaat-het-mis-tussen-adverteerder-media-en-creatie/
LOCATION:DDMA-kantoor\, Wg-Plein 185\, 1054 SC\, Amsterdam
ATTACH;FMTTYPE=image/jpeg:https://ddma.nl/wp-content/uploads/2026/03/pexels-canvastudio-3194519-scaled.jpg
END:VEVENT
END:VCALENDAR